BEGIN:VCALENDAR
VERSION:2.0
PRODID:-//Mairie de Gommegnies//NONSGML kigkonsult.se iCalcreator 2.41.92//
CALSCALE:GREGORIAN
METHOD:PUBLISH
UID:31363035-3265-4132-b632-323033616632
X-WR-CALNAME:iCagenda
X-WR-CALDESC:Event Management Extension for Joomla!
X-WR-RELCALID:3E26604A-50F4-4449-8B3E-E4F4932D05B5
X-WR-TIMEZONE:UTC
BEGIN:VTIMEZONE
TZID:UTC
END:VTIMEZONE
BEGIN:VEVENT
UID:32636131-3963-4966-a566-326231623962
DTSTAMP:20260425T165532Z
CATEGORIES:Loisirs
CLASS:PUBLIC
DESCRIPTION:
DTSTART:20250424T122300Z
DTEND:20250428T122300Z
GEO:+50.271206;+3.706202
LOCATION:Place du Général de Gaulle 59144 Gommegnies
ORGANIZER:
SEQUENCE:1
SUMMARY:Ducasse d'Avril
TRANSP:OPAQUE
URL:https://www.gommegnies.fr/index.php/actualites/l-agenda-gommegnion/20-d
 ucasse-davril
END:VEVENT
END:VCALENDAR
